BEGIN:VCALENDAR
VERSION:2.0
PRODID:-//JVAM - ECPv6.15.20//NONSGML v1.0//EN
CALSCALE:GREGORIAN
METHOD:PUBLISH
X-WR-CALNAME:JVAM
X-ORIGINAL-URL:https://judoverein-ammerland-muensing.de
X-WR-CALDESC:Veranstaltungen für JVAM
REFRESH-INTERVAL;VALUE=DURATION:PT1H
X-Robots-Tag:noindex
X-PUBLISHED-TTL:PT1H
BEGIN:VTIMEZONE
TZID:Europe/Berlin
BEGIN:DAYLIGHT
TZOFFSETFROM:+0100
TZOFFSETTO:+0200
TZNAME:CEST
DTSTART:20250330T010000
END:DAYLIGHT
BEGIN:STANDARD
TZOFFSETFROM:+0200
TZOFFSETTO:+0100
TZNAME:CET
DTSTART:20251026T010000
END:STANDARD
BEGIN:DAYLIGHT
TZOFFSETFROM:+0100
TZOFFSETTO:+0200
TZNAME:CEST
DTSTART:20260329T010000
END:DAYLIGHT
BEGIN:STANDARD
TZOFFSETFROM:+0200
TZOFFSETTO:+0100
TZNAME:CET
DTSTART:20261025T010000
END:STANDARD
BEGIN:DAYLIGHT
TZOFFSETFROM:+0100
TZOFFSETTO:+0200
TZNAME:CEST
DTSTART:20270328T010000
END:DAYLIGHT
BEGIN:STANDARD
TZOFFSETFROM:+0200
TZOFFSETTO:+0100
TZNAME:CET
DTSTART:20271031T010000
END:STANDARD
END:VTIMEZONE
BEGIN:VEVENT
DTSTART;VALUE=DATE:20260221
DTEND;VALUE=DATE:20260223
DTSTAMP:20260424T063004
CREATED:20251205T084252Z
LAST-MODIFIED:20251205T084252Z
UID:10271-1771632000-1771804799@judoverein-ammerland-muensing.de
SUMMARY:Offene Trainerfortbildung 2/2026 - aktuelle Wettkampfentwicklung
DESCRIPTION:Betreuung: DJB Kategorie: Fortbildung Altersklasse: https://api.dokume.net/functions.php/storage/publiclink/cmRFRW5veXdsTVM0bm1aRndpSFRSVStncEd5a3NEMzFDcmM9/inline Ausschreibung: Trainer Ort:
URL:https://judoverein-ammerland-muensing.de/event/offene-trainerfortbildung-2-2026-aktuelle-wettkampfentwicklung/
CATEGORIES:Trainer
END:VEVENT
END:VCALENDAR