BEGIN:VCALENDAR
VERSION:2.0
PRODID:-//JVAM - ECPv6.15.20//NONSGML v1.0//EN
CALSCALE:GREGORIAN
METHOD:PUBLISH
X-WR-CALNAME:JVAM
X-ORIGINAL-URL:https://judoverein-ammerland-muensing.de
X-WR-CALDESC:Veranstaltungen für JVAM
REFRESH-INTERVAL;VALUE=DURATION:PT1H
X-Robots-Tag:noindex
X-PUBLISHED-TTL:PT1H
BEGIN:VTIMEZONE
TZID:Europe/Berlin
BEGIN:DAYLIGHT
TZOFFSETFROM:+0100
TZOFFSETTO:+0200
TZNAME:CEST
DTSTART:20250330T010000
END:DAYLIGHT
BEGIN:STANDARD
TZOFFSETFROM:+0200
TZOFFSETTO:+0100
TZNAME:CET
DTSTART:20251026T010000
END:STANDARD
BEGIN:DAYLIGHT
TZOFFSETFROM:+0100
TZOFFSETTO:+0200
TZNAME:CEST
DTSTART:20260329T010000
END:DAYLIGHT
BEGIN:STANDARD
TZOFFSETFROM:+0200
TZOFFSETTO:+0100
TZNAME:CET
DTSTART:20261025T010000
END:STANDARD
BEGIN:DAYLIGHT
TZOFFSETFROM:+0100
TZOFFSETTO:+0200
TZNAME:CEST
DTSTART:20270328T010000
END:DAYLIGHT
BEGIN:STANDARD
TZOFFSETFROM:+0200
TZOFFSETTO:+0100
TZNAME:CET
DTSTART:20271031T010000
END:STANDARD
END:VTIMEZONE
BEGIN:VEVENT
DTSTART;TZID=Europe/Berlin:20261108T000000
DTEND;TZID=Europe/Berlin:20261108T000000
DTSTAMP:20260419T162755
CREATED:20251205T085738Z
LAST-MODIFIED:20251205T085738Z
UID:10337-1794096000-1794096000@judoverein-ammerland-muensing.de
SUMMARY:Obb. Kaderlehrgang 7
DESCRIPTION:Betreuung: OBB Kategorie: Lehrgang Altersklasse:  Ausschreibung:  Ort:
URL:https://judoverein-ammerland-muensing.de/event/obb-kaderlehrgang-7-3/
END:VEVENT
BEGIN:VEVENT
DTSTART;TZID=Europe/Berlin:20261119T000000
DTEND;TZID=Europe/Berlin:20261119T000000
DTSTAMP:20260419T162755
CREATED:20251205T085739Z
LAST-MODIFIED:20251205T085739Z
UID:10338-1795046400-1795046400@judoverein-ammerland-muensing.de
SUMMARY:Tageslehrgang Buß-und Bettag
DESCRIPTION:Betreuung: JVAM Kategorie: Lehrgang Altersklasse:  Ausschreibung: U11\, U13\, U15\, U18\, U9 Ort:
URL:https://judoverein-ammerland-muensing.de/event/tageslehrgang-buss-und-bettag-3/
CATEGORIES:U11,U13,U15,U18,U9
END:VEVENT
BEGIN:VEVENT
DTSTART;TZID=Europe/Berlin:20261121T000000
DTEND;TZID=Europe/Berlin:20261121T000000
DTSTAMP:20260419T162755
CREATED:20251205T085741Z
LAST-MODIFIED:20251205T085741Z
UID:10339-1795219200-1795219200@judoverein-ammerland-muensing.de
SUMMARY:Spitzbubenturnier
DESCRIPTION:Betreuung: OBB Kategorie: Einzel Altersklasse:  Ausschreibung: U14\, U17 Ort: TSV Peiting
URL:https://judoverein-ammerland-muensing.de/event/spitzbubenturnier-3/
LOCATION:TSV Peiting\, Alfons-Peter-Str. 10\, Peiting\, Bayern\, 86971\, Deutschland
CATEGORIES:U14,U17
END:VEVENT
BEGIN:VEVENT
DTSTART;TZID=Europe/Berlin:20261121T000000
DTEND;TZID=Europe/Berlin:20261121T000000
DTSTAMP:20260419T162755
CREATED:20251205T085936Z
LAST-MODIFIED:20251205T085936Z
UID:10340-1795219200-1795219200@judoverein-ammerland-muensing.de
SUMMARY:Erlanger Stadtmeisterschaft ?
DESCRIPTION:Betreuung:  Kategorie: Mannschaft Altersklasse:  Ausschreibung: Frauen\, Männer Ort:
URL:https://judoverein-ammerland-muensing.de/event/erlanger-stadtmeisterschaft/
CATEGORIES:Frauen,Männer
END:VEVENT
BEGIN:VEVENT
DTSTART;TZID=Europe/Berlin:20261122T000000
DTEND;TZID=Europe/Berlin:20261122T000000
DTSTAMP:20260419T162755
CREATED:20251205T085938Z
LAST-MODIFIED:20251205T085938Z
UID:10341-1795305600-1795305600@judoverein-ammerland-muensing.de
SUMMARY:Obb. RLT u14\, u17\, u20
DESCRIPTION:Betreuung: OBB Kategorie: Einzel Altersklasse:  Ausschreibung: U14\, U17\, U20 Ort: TSV Palling
URL:https://judoverein-ammerland-muensing.de/event/obb-rlt-u14-u17-u20-3/
LOCATION:TSV Palling\, Seestraße 23\, Palling\, Bayern\, 83349\, Deutschland
CATEGORIES:U14,U17,U20
END:VEVENT
END:VCALENDAR